BEGIN:VCALENDAR
VERSION:2.0
PRODID:-//wp-events-plugin.com//7.2.3.1//EN
TZID:Europe/Paris
X-WR-TIMEZONE:Europe/Paris
BEGIN:VEVENT
UID:468@soissons.fr
DTSTART;TZID=Europe/Paris:20260324T210000
DTEND;TZID=Europe/Paris:20260324T210000
DTSTAMP:20260225T164725Z
URL:https://www.soissons.fr/events/girls-in-a-lift-en-concert-a-lejc/
SUMMARY:GIRLS IN A LIFT en concert à l’EJC
DESCRIPTION:\nL'EJC aura le plaisir d'accueillir en première partie de la 
 jam Girls in a Lift\, mardi 24 mars à partir de 21h.C’était un projet 
 qui se devait d’être éphémère ! Et pourtant\, un an après\, ils se 
 retrouvent chaque semaine aux caves à musique de Laon pour répéter. Oub
 liée l’idée de faire une seule représentation sur leur lieu de travai
 l : Girls in a Lift a fait une douzaine de concerts en un an (fête de la 
 musique\, Soissons\, Cerny\, Tavaux…) et ils sont bien décidés à ne p
 as s’arrêter là !Grils in a Lift c’est Helena au chant et Fred à la
  guitare. Ils proposent un répertoire de reprises en Français\, Anglais 
 et Espagnol qui se balade de Bourvil à Bowie et d’Archive à la Mano Ne
 gra. Une constante : une voix\, parfois deux\, et une guitare.Et le nom du
  groupe ? On leur pose souvent la question ! Pourquoi le pluriel alors qu'
 il n'y a qu'une seule chanteuse ? Pourquoi un ascenseur ? Chacun y voit ce
  qu'il veut !\n
ATTACH;FMTTYPE=image/jpeg:https://www.soissons.fr/wp-content/uploads/2026/
 02/628444497_25657629793864783_8866587869192222861_n.jpg
CATEGORIES:Concerts
END:VEVENT
BEGIN:VTIMEZONE
TZID:Europe/Paris
X-LIC-LOCATION:Europe/Paris
BEGIN:STANDARD
DTSTART:20251026T020000
TZOFFSETFROM:+0200
TZOFFSETTO:+0100
TZNAME:CET
END:STANDARD
END:VTIMEZONE
END:VCALENDAR