BEGIN:VCALENDAR
VERSION:2.0
PRODID:-//wp-events-plugin.com//7.2.3.1//EN
TZID:Europe/Paris
X-WR-TIMEZONE:Europe/Paris
BEGIN:VEVENT
UID:447@soissons.fr
DTSTART;TZID=Europe/Paris:20260314T200000
DTEND;TZID=Europe/Paris:20260314T200000
DTSTAMP:20260225T164725Z
URL:https://www.soissons.fr/events/lavare/
SUMMARY:L’AVARE
DESCRIPTION:Main basse sur la cassette. Amasser\, accumuler\, conserver :\n
 Harpagon est une figure qui aujourd'hui plonge au coeur de nos paradoxes. 
 Et si\, pour mieux parler de l'avarice\, nous imaginions un Avare radin\, 
 ou pour le dire autrement\, un spectacle circulaire\, où l'on joue avec c
 e que le public nous donne\, avant de le redistribuer après la représent
 ation.\n\nUn théâtre pauvre mais riche de son public\, riche de ce que n
 ous partageons. Une troupe qui n'a rien\, en slip qui invente chaque soir 
 une pièce unique. Un Avare brigand qui fait sauter joyeusement le verrou 
 de nos cassettes.
ATTACH;FMTTYPE=image/jpeg:https://www.soissons.fr/wp-content/uploads/2026/
 02/lavare-soissons-36.jpg
CATEGORIES:Culture &amp; patrimoine,Théâtre
END:VEVENT
BEGIN:VTIMEZONE
TZID:Europe/Paris
X-LIC-LOCATION:Europe/Paris
BEGIN:STANDARD
DTSTART:20251026T020000
TZOFFSETFROM:+0200
TZOFFSETTO:+0100
TZNAME:CET
END:STANDARD
END:VTIMEZONE
END:VCALENDAR