BEGIN:VCALENDAR
VERSION:2.0
PRODID:-//wp-events-plugin.com//7.2.3.1//EN
TZID:Europe/Paris
X-WR-TIMEZONE:Europe/Paris
BEGIN:VEVENT
UID:446@soissons.fr
DTSTART;TZID=Europe/Paris:20260312T200000
DTEND;TZID=Europe/Paris:20260312T220000
DTSTAMP:20260225T164725Z
URL:https://www.soissons.fr/events/yannick-noah-un-ptit-tour-a-deux/
SUMMARY:YANNICK NOAH – UN P’TIT TOUR À DEUX
DESCRIPTION:\n\nUn moment de partage\, entre musique et souvenirs.\nEn 2026
 \, Yannick Noah vous embarque pour une tournée acoustique et intimiste\, 
 portée par le sourire\, le soleil et la bonne humeur. Accompagné de Nico
 las Paillet à la guitare\, il revisite ses plus grands tubes dans une ver
 sion épurée\, en toute simplicité.\n\nEncore deux chansons\, il se livr
 e avec sincérité\, partageant des anecdotes et des souvenirs qui ont mar
 qués son parcours.\nUn concert chaleureux et authentique\, pensé comme u
 ne parenthèse hors du temps\, au plus proche du public.\n\n
ATTACH;FMTTYPE=image/jpeg:https://www.soissons.fr/wp-content/uploads/2026/
 02/concert-yannick-noah-36.jpg
CATEGORIES:Concerts,Culture &amp; patrimoine
END:VEVENT
BEGIN:VTIMEZONE
TZID:Europe/Paris
X-LIC-LOCATION:Europe/Paris
BEGIN:STANDARD
DTSTART:20251026T020000
TZOFFSETFROM:+0200
TZOFFSETTO:+0100
TZNAME:CET
END:STANDARD
END:VTIMEZONE
END:VCALENDAR